BEGIN:VCALENDAR
VERSION:2.0
PRODID:-//Lakehead District School Board - ECPv6.0.5//NONSGML v1.0//EN
CALSCALE:GREGORIAN
METHOD:PUBLISH
X-WR-CALNAME:Lakehead District School Board
X-ORIGINAL-URL:https://www.lakeheadschools.ca
X-WR-CALDESC:Events for Lakehead District School Board
REFRESH-INTERVAL;VALUE=DURATION:PT1H
X-Robots-Tag:noindex
X-PUBLISHED-TTL:PT1H
BEGIN:VTIMEZONE
TZID:America/Thunder_Bay
BEGIN:DAYLIGHT
TZOFFSETFROM:-0500
TZOFFSETTO:-0400
TZNAME:EDT
DTSTART:20220313T070000
END:DAYLIGHT
BEGIN:STANDARD
TZOFFSETFROM:-0400
TZOFFSETTO:-0500
TZNAME:EST
DTSTART:20221106T060000
END:STANDARD
END:VTIMEZONE
BEGIN:VEVENT
DTSTART;TZID=America/Thunder_Bay:20220502T183000
DTEND;TZID=America/Thunder_Bay:20220502T183000
DTSTAMP:20260425T160527
CREATED:20220425T153318Z
LAST-MODIFIED:20220425T153405Z
UID:8835-1651516200-1651516200@www.lakeheadschools.ca
SUMMARY:Parent Involvement Committee Meeting
DESCRIPTION:
URL:https://www.lakeheadschools.ca/event/parent-involvement-committee-meeting-4/
LOCATION:Virtual Teams Meeting
ORGANIZER;CN="Judy%20Hill":MAILTO:judy_hill@lakeheadschools.ca
END:VEVENT
END:VCALENDAR