BEGIN:VCALENDAR
VERSION:2.0
PRODID:-//Lakehead District School Board - ECPv6.0.5//NONSGML v1.0//EN
CALSCALE:GREGORIAN
METHOD:PUBLISH
X-ORIGINAL-URL:https://www.lakeheadschools.ca
X-WR-CALDESC:Events for Lakehead District School Board
REFRESH-INTERVAL;VALUE=DURATION:PT1H
X-Robots-Tag:noindex
X-PUBLISHED-TTL:PT1H
BEGIN:VTIMEZONE
TZID:America/Thunder_Bay
BEGIN:DAYLIGHT
TZOFFSETFROM:-0500
TZOFFSETTO:-0400
TZNAME:EDT
DTSTART:20220313T070000
END:DAYLIGHT
BEGIN:STANDARD
TZOFFSETFROM:-0400
TZOFFSETTO:-0500
TZNAME:EST
DTSTART:20221106T060000
END:STANDARD
END:VTIMEZONE
BEGIN:VEVENT
DTSTART;VALUE=DATE:20220610
DTEND;VALUE=DATE:20220611
DTSTAMP:20260424T061924
CREATED:20210920T132709Z
LAST-MODIFIED:20210920T134232Z
UID:3348-1654819200-1654905599@www.lakeheadschools.ca
SUMMARY:PA Day – No School – Elem Only
DESCRIPTION:
URL:https://www.lakeheadschools.ca/event/pa-day-no-school-elem-only-2/
CATEGORIES:Schools Events
END:VEVENT
BEGIN:VEVENT
DTSTART;VALUE=DATE:20220628
DTEND;VALUE=DATE:20220629
DTSTAMP:20260424T061924
CREATED:20210920T132743Z
LAST-MODIFIED:20210920T134222Z
UID:3350-1656374400-1656460799@www.lakeheadschools.ca
SUMMARY:Final Day of School
DESCRIPTION:
URL:https://www.lakeheadschools.ca/event/final-day-of-school/
CATEGORIES:Schools Events
END:VEVENT
BEGIN:VEVENT
DTSTART;VALUE=DATE:20220628
DTEND;VALUE=DATE:20220629
DTSTAMP:20260424T061924
CREATED:20210920T132821Z
LAST-MODIFIED:20210920T134210Z
UID:3352-1656374400-1656460799@www.lakeheadschools.ca
SUMMARY:PA Day – No School – Sec Only
DESCRIPTION:
URL:https://www.lakeheadschools.ca/event/pa-day-no-school-sec-only-2/
CATEGORIES:Schools Events
END:VEVENT
END:VCALENDAR